Package: RTNduals Version: 1.26.0 Command: /home/biocbuild/bbs-3.18-bioc/R/bin/R CMD build --keep-empty-dirs --no-resave-data RTNduals StartedAt: 2024-04-15 18:58:34 -0400 (Mon, 15 Apr 2024) EndedAt: 2024-04-15 18:59:51 -0400 (Mon, 15 Apr 2024) EllapsedTime: 76.3 seconds RetCode: 0 Status: OK PackageFile: RTNduals_1.26.0.tar.gz PackageFileSize: 584.5 KiB