Package: RTN Version: 2.26.0 Command: rm -rf RTN.buildbin-libdir && mkdir RTN.buildbin-libdir && /Users/biocbuild/BBS/utils/build-universal.sh RTN_2.26.0.tar.gz /Library/Frameworks/R.framework/Resources/bin/R RTN.buildbin-libdir StartedAt: 2024-04-16 12:37:30 -0400 (Tue, 16 Apr 2024) EndedAt: 2024-04-16 12:39:01 -0400 (Tue, 16 Apr 2024) EllapsedTime: 90.5 seconds RetCode: 0 Status: OK PackageFile: RTN_2.26.0.tgz PackageFileSize: 10.51 MiB