Package: RTCGAToolbox Version: 2.32.1 Command: /home/biocbuild/bbs-3.18-bioc/R/bin/R CMD INSTALL RTCGAToolbox StartedAt: 2024-04-15 15:30:35 -0400 (Mon, 15 Apr 2024) EndedAt: 2024-04-15 15:31:00 -0400 (Mon, 15 Apr 2024) EllapsedTime: 24.8 seconds RetCode: 0 Status: OK