Package: RTCGAToolbox Version: 2.32.1 Command: /home/biocbuild/bbs-3.18-bioc/R/bin/R CMD check --install=check:RTCGAToolbox.install-out.txt --library=/home/biocbuild/bbs-3.18-bioc/R/site-library --timings RTCGAToolbox_2.32.1.tar.gz StartedAt: 2024-04-16 03:17:56 -0400 (Tue, 16 Apr 2024) EndedAt: 2024-04-16 03:21:42 -0400 (Tue, 16 Apr 2024) EllapsedTime: 226.5 seconds RetCode: 0 Status: OK CheckDir: RTCGAToolbox.Rcheck Warnings: 0