Package: RTCGAToolbox Version: 2.32.1 Command: /home/biocbuild/bbs-3.18-bioc/R/bin/R CMD build --keep-empty-dirs --no-resave-data RTCGAToolbox StartedAt: 2024-04-15 18:58:21 -0400 (Mon, 15 Apr 2024) EndedAt: 2024-04-15 18:59:04 -0400 (Mon, 15 Apr 2024) EllapsedTime: 43.5 seconds RetCode: 0 Status: OK PackageFile: RTCGAToolbox_2.32.1.tar.gz PackageFileSize: 2.33 MiB