Package: RTCGAToolbox Version: 2.32.1 Command: /Library/Frameworks/R.framework/Resources/bin/R CMD build --keep-empty-dirs --no-resave-data RTCGAToolbox StartedAt: 2024-03-03 18:07:11 -0500 (Sun, 03 Mar 2024) EndedAt: 2024-03-03 18:08:06 -0500 (Sun, 03 Mar 2024) EllapsedTime: 55.2 seconds RetCode: 0 Status: OK PackageFile: RTCGAToolbox_2.32.1.tar.gz PackageFileSize: 2.33 MiB