Package: RTCGAToolbox Version: 2.32.1 Command: rm -rf RTCGAToolbox.buildbin-libdir && mkdir RTCGAToolbox.buildbin-libdir && /Users/biocbuild/BBS/utils/build-universal.sh RTCGAToolbox_2.32.1.tar.gz /Library/Frameworks/R.framework/Resources/bin/R RTCGAToolbox.buildbin-libdir StartedAt: 2024-03-04 01:01:41 -0500 (Mon, 04 Mar 2024) EndedAt: 2024-03-04 01:02:18 -0500 (Mon, 04 Mar 2024) EllapsedTime: 37.3 seconds RetCode: 0 Status: OK PackageFile: RTCGAToolbox_2.32.1.tgz PackageFileSize: 629.3 KiB