Package: RTCGAToolbox Version: 2.32.1 Command: /home/biocbuild/R/R-4.3.1/bin/R CMD check --install=check:RTCGAToolbox.install-out.txt --library=/home/biocbuild/R/R-4.3.1/site-library --no-vignettes --timings RTCGAToolbox_2.32.1.tar.gz StartedAt: 2023-11-02 13:56:58 -0000 (Thu, 02 Nov 2023) EndedAt: 2023-11-02 14:05:52 -0000 (Thu, 02 Nov 2023) EllapsedTime: 534.1 seconds RetCode: 0 Status: OK CheckDir: RTCGAToolbox.Rcheck Warnings: 0