Package: RSVSim Version: 1.42.0 Command: /Library/Frameworks/R.framework/Resources/bin/R CMD build --keep-empty-dirs --no-resave-data RSVSim StartedAt: 2024-04-15 21:28:55 -0400 (Mon, 15 Apr 2024) EndedAt: 2024-04-15 21:30:50 -0400 (Mon, 15 Apr 2024) EllapsedTime: 114.8 seconds RetCode: 0 Status: OK PackageFile: RSVSim_1.42.0.tar.gz PackageFileSize: 504.7 KiB