Package: RSVSim Version: 1.42.0 Command: rm -rf RSVSim.buildbin-libdir && mkdir RSVSim.buildbin-libdir && /Users/biocbuild/BBS/utils/build-universal.sh RSVSim_1.42.0.tar.gz /Library/Frameworks/R.framework/Resources/bin/R RSVSim.buildbin-libdir StartedAt: 2024-04-16 12:37:22 -0400 (Tue, 16 Apr 2024) EndedAt: 2024-04-16 12:38:31 -0400 (Tue, 16 Apr 2024) EllapsedTime: 69.4 seconds RetCode: 0 Status: OK PackageFile: RSVSim_1.42.0.tgz PackageFileSize: 612.8 KiB