Package: RRHO Version: 1.42.0 Command: F:\biocbuild\bbs-3.18-bioc\R\bin\R.exe CMD INSTALL RRHO StartedAt: 2024-04-15 15:51:36 -0400 (Mon, 15 Apr 2024) EndedAt: 2024-04-15 15:51:42 -0400 (Mon, 15 Apr 2024) EllapsedTime: 6.3 seconds RetCode: 0 Status: OK