Package: RRHO Version: 1.42.0 Command: /Library/Frameworks/R.framework/Resources/bin/R CMD check --install=check:RRHO.install-out.txt --library=/Library/Frameworks/R.framework/Resources/library --no-vignettes --timings RRHO_1.42.0.tar.gz StartedAt: 2024-04-16 08:07:46 -0400 (Tue, 16 Apr 2024) EndedAt: 2024-04-16 08:08:32 -0400 (Tue, 16 Apr 2024) EllapsedTime: 45.8 seconds RetCode: 0 Status: OK CheckDir: RRHO.Rcheck Warnings: 0