Package: RRHO Version: 1.42.0 Command: /Library/Frameworks/R.framework/Resources/bin/R CMD INSTALL RRHO StartedAt: 2024-03-03 15:10:51 -0500 (Sun, 03 Mar 2024) EndedAt: 2024-03-03 15:10:55 -0500 (Sun, 03 Mar 2024) EllapsedTime: 4.2 seconds RetCode: 0 Status: OK