Package: ROntoTools Version: 2.30.0 Command: F:\biocbuild\bbs-3.18-bioc\R\bin\R.exe CMD INSTALL ROntoTools StartedAt: 2024-04-15 15:55:43 -0400 (Mon, 15 Apr 2024) EndedAt: 2024-04-15 15:56:02 -0400 (Mon, 15 Apr 2024) EllapsedTime: 19.7 seconds RetCode: 0 Status: OK