Package: ROntoTools Version: 2.30.0 Command: /home/biocbuild/bbs-3.18-bioc/R/bin/R CMD build --keep-empty-dirs --no-resave-data ROntoTools StartedAt: 2024-04-15 18:56:39 -0400 (Mon, 15 Apr 2024) EndedAt: 2024-04-15 18:57:19 -0400 (Mon, 15 Apr 2024) EllapsedTime: 39.2 seconds RetCode: 0 Status: OK PackageFile: ROntoTools_2.30.0.tar.gz PackageFileSize: 1.353 MiB