Package: ROntoTools Version: 2.30.0 Command: /home/biocbuild/R/R-4.3.1/bin/R CMD build --keep-empty-dirs --no-resave-data ROntoTools StartedAt: 2023-11-02 05:30:44 -0000 (Thu, 02 Nov 2023) EndedAt: 2023-11-02 05:31:40 -0000 (Thu, 02 Nov 2023) EllapsedTime: 56.1 seconds RetCode: 0 Status: OK PackageFile: ROntoTools_2.30.0.tar.gz PackageFileSize: 1.476 MiB