Package: ROSeq Version: 1.14.0 Command: chmod a+r ROSeq -R && F:\biocbuild\bbs-3.18-bioc\R\bin\R.exe CMD build --keep-empty-dirs --no-resave-data ROSeq StartedAt: 2024-04-15 20:48:24 -0400 (Mon, 15 Apr 2024) EndedAt: 2024-04-15 20:52:19 -0400 (Mon, 15 Apr 2024) EllapsedTime: 235.1 seconds RetCode: 0 Status: OK PackageFile: ROSeq_1.14.0.tar.gz PackageFileSize: 4.192 MiB