Package: ROSeq Version: 1.14.0 Command: /Library/Frameworks/R.framework/Resources/bin/R CMD check --install=check:ROSeq.install-out.txt --library=/Library/Frameworks/R.framework/Resources/library --no-vignettes --timings ROSeq_1.14.0.tar.gz StartedAt: 2024-04-16 08:04:46 -0400 (Tue, 16 Apr 2024) EndedAt: 2024-04-16 08:13:07 -0400 (Tue, 16 Apr 2024) EllapsedTime: 501.4 seconds RetCode: 0 Status: WARNINGS CheckDir: ROSeq.Rcheck Warnings: 1