Package: ROSeq Version: 1.14.0 Command: /home/biocbuild/R/R-4.3.1/bin/R CMD INSTALL ROSeq StartedAt: 2023-11-01 20:12:02 -0000 (Wed, 01 Nov 2023) EndedAt: 2023-11-01 20:12:13 -0000 (Wed, 01 Nov 2023) EllapsedTime: 10.3 seconds RetCode: 0 Status: OK