Package: ROSeq Version: 1.14.0 Command: /home/biocbuild/R/R-4.3.1/bin/R CMD build --keep-empty-dirs --no-resave-data ROSeq StartedAt: 2023-11-02 05:31:15 -0000 (Thu, 02 Nov 2023) EndedAt: 2023-11-02 05:35:13 -0000 (Thu, 02 Nov 2023) EllapsedTime: 238.3 seconds RetCode: 0 Status: OK PackageFile: ROSeq_1.14.0.tar.gz PackageFileSize: 4.192 MiB