Package: ROCpAI Version: 1.14.0 Command: chmod a+r ROCpAI -R && F:\biocbuild\bbs-3.18-bioc\R\bin\R.exe CMD build --keep-empty-dirs --no-resave-data ROCpAI StartedAt: 2024-04-15 20:47:18 -0400 (Mon, 15 Apr 2024) EndedAt: 2024-04-15 20:48:00 -0400 (Mon, 15 Apr 2024) EllapsedTime: 42.2 seconds RetCode: 0 Status: OK PackageFile: ROCpAI_1.14.0.tar.gz PackageFileSize: 324 KiB