Package: ROCpAI Version: 1.14.0 Command: rm -rf ROCpAI.buildbin-libdir && mkdir ROCpAI.buildbin-libdir && F:\biocbuild\bbs-3.18-bioc\R\bin\R.exe CMD INSTALL --build --library=ROCpAI.buildbin-libdir ROCpAI_1.14.0.tar.gz StartedAt: 2024-04-16 07:35:22 -0400 (Tue, 16 Apr 2024) EndedAt: 2024-04-16 07:35:51 -0400 (Tue, 16 Apr 2024) EllapsedTime: 28.8 seconds RetCode: 0 Status: OK PackageFile: ROCpAI_1.14.0.zip PackageFileSize: 365.7 KiB