Package: ROCpAI Version: 1.14.0 Command: /Library/Frameworks/R.framework/Resources/bin/R CMD INSTALL ROCpAI StartedAt: 2024-04-15 16:05:08 -0400 (Mon, 15 Apr 2024) EndedAt: 2024-04-15 16:05:53 -0400 (Mon, 15 Apr 2024) EllapsedTime: 45.1 seconds RetCode: 0 Status: OK