Package: ROCpAI Version: 1.14.0 Command: /Library/Frameworks/R.framework/Resources/bin/R CMD check --install=check:ROCpAI.install-out.txt --library=/Library/Frameworks/R.framework/Resources/library --no-vignettes --timings ROCpAI_1.14.0.tar.gz StartedAt: 2024-03-03 23:05:44 -0500 (Sun, 03 Mar 2024) EndedAt: 2024-03-03 23:08:31 -0500 (Sun, 03 Mar 2024) EllapsedTime: 166.5 seconds RetCode: 0 Status: OK CheckDir: ROCpAI.Rcheck Warnings: 0