Package: RNAmodR.ML Version: 1.16.0 Command: /Library/Frameworks/R.framework/Resources/bin/R CMD INSTALL RNAmodR.ML StartedAt: 2024-03-03 15:29:38 -0500 (Sun, 03 Mar 2024) EndedAt: 2024-03-03 15:31:00 -0500 (Sun, 03 Mar 2024) EllapsedTime: 82.2 seconds RetCode: 0 Status: OK