Package: RNAmodR.AlkAnilineSeq Version: 1.16.0 Command: /Library/Frameworks/R.framework/Resources/bin/R CMD build --keep-empty-dirs --no-resave-data RNAmodR.AlkAnilineSeq StartedAt: 2024-04-15 21:23:02 -0400 (Mon, 15 Apr 2024) EndedAt: 2024-04-15 21:27:27 -0400 (Mon, 15 Apr 2024) EllapsedTime: 264.8 seconds RetCode: 0 Status: OK PackageFile: RNAmodR.AlkAnilineSeq_1.16.0.tar.gz PackageFileSize: 1.04 MiB