Package: RNAdecay Version: 1.22.2 Command: /home/biocbuild/bbs-3.18-bioc/R/bin/R CMD INSTALL RNAdecay StartedAt: 2024-04-15 15:33:33 -0400 (Mon, 15 Apr 2024) EndedAt: 2024-04-15 15:41:07 -0400 (Mon, 15 Apr 2024) EllapsedTime: 453.8 seconds RetCode: 0 Status: OK