Package: RNAdecay Version: 1.22.2 Command: /Library/Frameworks/R.framework/Resources/bin/R CMD INSTALL RNAdecay StartedAt: 2024-03-03 15:28:11 -0500 (Sun, 03 Mar 2024) EndedAt: 2024-03-03 15:36:32 -0500 (Sun, 03 Mar 2024) EllapsedTime: 501.2 seconds RetCode: 0 Status: OK