Package: RLassoCox Version: 1.10.0 Command: /Library/Frameworks/R.framework/Resources/bin/R CMD INSTALL RLassoCox StartedAt: 2024-03-03 15:31:28 -0500 (Sun, 03 Mar 2024) EndedAt: 2024-03-03 15:31:37 -0500 (Sun, 03 Mar 2024) EllapsedTime: 9.2 seconds RetCode: 0 Status: OK