Package: RImmPort Version: 1.30.0 Command: /home/biocbuild/R/R-4.3.1/bin/R CMD build --keep-empty-dirs --no-resave-data RImmPort StartedAt: 2023-11-02 05:19:14 -0000 (Thu, 02 Nov 2023) EndedAt: 2023-11-02 05:19:36 -0000 (Thu, 02 Nov 2023) EllapsedTime: 22.0 seconds RetCode: 0 Status: OK PackageFile: RImmPort_1.30.0.tar.gz PackageFileSize: 2.797 MiB