Package: RITAN Version: 1.26.0 Command: F:\biocbuild\bbs-3.18-bioc\R\bin\R.exe CMD check --no-multiarch --install=check:RITAN.install-out.txt --library=F:\biocbuild\bbs-3.18-bioc\R\library --no-vignettes --timings RITAN_1.26.0.tar.gz StartedAt: 2024-04-16 04:25:12 -0400 (Tue, 16 Apr 2024) EndedAt: 2024-04-16 04:30:28 -0400 (Tue, 16 Apr 2024) EllapsedTime: 316.2 seconds RetCode: 0 Status: WARNINGS CheckDir: RITAN.Rcheck Warnings: 1