Package: RITAN Version: 1.26.0 Command: rm -rf RITAN.buildbin-libdir && mkdir RITAN.buildbin-libdir && F:\biocbuild\bbs-3.18-bioc\R\bin\R.exe CMD INSTALL --build --library=RITAN.buildbin-libdir RITAN_1.26.0.tar.gz StartedAt: 2024-04-16 07:33:54 -0400 (Tue, 16 Apr 2024) EndedAt: 2024-04-16 07:34:52 -0400 (Tue, 16 Apr 2024) EllapsedTime: 58.2 seconds RetCode: 0 Status: OK PackageFile: RITAN_1.26.0.zip PackageFileSize: 457.6 KiB