Package: RITAN Version: 1.26.0 Command: /Library/Frameworks/R.framework/Resources/bin/R CMD check --install=check:RITAN.install-out.txt --library=/Library/Frameworks/R.framework/Resources/library --no-vignettes --timings RITAN_1.26.0.tar.gz StartedAt: 2024-04-16 07:51:52 -0400 (Tue, 16 Apr 2024) EndedAt: 2024-04-16 08:02:14 -0400 (Tue, 16 Apr 2024) EllapsedTime: 622.2 seconds RetCode: 0 Status: WARNINGS CheckDir: RITAN.Rcheck Warnings: 1