Package: RITAN Version: 1.26.0 Command: /home/biocbuild/R/R-4.3.1/bin/R CMD build --keep-empty-dirs --no-resave-data RITAN StartedAt: 2023-11-02 05:20:17 -0000 (Thu, 02 Nov 2023) EndedAt: 2023-11-02 05:22:55 -0000 (Thu, 02 Nov 2023) EllapsedTime: 158.3 seconds RetCode: 0 Status: OK PackageFile: RITAN_1.26.0.tar.gz PackageFileSize: 619 KiB