Package: RIPAT Version: 1.12.0 Command: /home/biocbuild/R/R-4.3.1/bin/R CMD build --keep-empty-dirs --no-resave-data RIPAT StartedAt: 2023-11-02 05:19:34 -0000 (Thu, 02 Nov 2023) EndedAt: 2023-11-02 05:30:24 -0000 (Thu, 02 Nov 2023) EllapsedTime: 650.2 seconds RetCode: 0 Status: OK PackageFile: RIPAT_1.12.0.tar.gz PackageFileSize: 4.309 MiB