Package: RGraph2js Version: 1.30.0 Command: rm -rf RGraph2js.buildbin-libdir && mkdir RGraph2js.buildbin-libdir && F:\biocbuild\bbs-3.18-bioc\R\bin\R.exe CMD INSTALL --build --library=RGraph2js.buildbin-libdir RGraph2js_1.30.0.tar.gz StartedAt: 2024-04-16 07:32:52 -0400 (Tue, 16 Apr 2024) EndedAt: 2024-04-16 07:33:03 -0400 (Tue, 16 Apr 2024) EllapsedTime: 10.7 seconds RetCode: 0 Status: OK PackageFile: RGraph2js_1.30.0.zip PackageFileSize: 1.501 MiB