Package: RGraph2js Version: 1.30.0 Command: /Library/Frameworks/R.framework/Resources/bin/R CMD build --keep-empty-dirs --no-resave-data RGraph2js StartedAt: 2024-04-15 21:16:54 -0400 (Mon, 15 Apr 2024) EndedAt: 2024-04-15 21:17:18 -0400 (Mon, 15 Apr 2024) EllapsedTime: 24.1 seconds RetCode: 0 Status: OK PackageFile: RGraph2js_1.30.0.tar.gz PackageFileSize: 2.343 MiB