Package: RGraph2js Version: 1.30.0 Command: /Library/Frameworks/R.framework/Resources/bin/R CMD INSTALL RGraph2js StartedAt: 2024-03-03 15:11:03 -0500 (Sun, 03 Mar 2024) EndedAt: 2024-03-03 15:11:19 -0500 (Sun, 03 Mar 2024) EllapsedTime: 15.2 seconds RetCode: 0 Status: OK