Package: RESOLVE Version: 1.4.0 Command: rm -rf RESOLVE.buildbin-libdir && mkdir RESOLVE.buildbin-libdir && /Users/biocbuild/BBS/utils/build-universal.sh RESOLVE_1.4.0.tar.gz /Library/Frameworks/R.framework/Resources/bin/R RESOLVE.buildbin-libdir StartedAt: 2024-03-04 00:59:22 -0500 (Mon, 04 Mar 2024) EndedAt: 2024-03-04 01:00:17 -0500 (Mon, 04 Mar 2024) EllapsedTime: 55.3 seconds RetCode: 0 Status: OK PackageFile: RESOLVE_1.4.0.tgz PackageFileSize: 884.4 KiB