Package: RDRToolbox Version: 1.52.0 Command: /Library/Frameworks/R.framework/Resources/bin/R CMD check --install=check:RDRToolbox.install-out.txt --library=/Library/Frameworks/R.framework/Resources/library --no-vignettes --timings --no-examples RDRToolbox_1.52.0.tar.gz StartedAt: 2024-04-16 07:31:56 -0400 (Tue, 16 Apr 2024) EndedAt: 2024-04-16 07:32:42 -0400 (Tue, 16 Apr 2024) EllapsedTime: 46.1 seconds RetCode: 0 Status: OK CheckDir: RDRToolbox.Rcheck Warnings: 0