Package: RCSL Version: 1.10.1 Command: /Library/Frameworks/R.framework/Resources/bin/R CMD INSTALL RCSL StartedAt: 2024-04-15 15:19:32 -0400 (Mon, 15 Apr 2024) EndedAt: 2024-04-15 15:19:49 -0400 (Mon, 15 Apr 2024) EllapsedTime: 17.1 seconds RetCode: 0 Status: OK