Package: RCSL Version: 1.10.1 Command: /Library/Frameworks/R.framework/Resources/bin/R CMD check --install=check:RCSL.install-out.txt --library=/Library/Frameworks/R.framework/Resources/library --no-vignettes --timings RCSL_1.10.1.tar.gz StartedAt: 2024-04-16 07:30:56 -0400 (Tue, 16 Apr 2024) EndedAt: 2024-04-16 07:53:33 -0400 (Tue, 16 Apr 2024) EllapsedTime: 1357.4 seconds RetCode: 0 Status: OK CheckDir: RCSL.Rcheck Warnings: 0