Package: RCM Version: 1.18.0 Command: /Library/Frameworks/R.framework/Resources/bin/R CMD build --keep-empty-dirs --no-resave-data RCM StartedAt: 2024-04-15 21:10:07 -0400 (Mon, 15 Apr 2024) EndedAt: 2024-04-15 21:12:08 -0400 (Mon, 15 Apr 2024) EllapsedTime: 121.2 seconds RetCode: 0 Status: OK PackageFile: RCM_1.18.0.tar.gz PackageFileSize: 4.819 MiB