Package: RCM Version: 1.18.0 Command: /Library/Frameworks/R.framework/Resources/bin/R CMD check --install=check:RCM.install-out.txt --library=/Library/Frameworks/R.framework/Resources/library --no-vignettes --timings RCM_1.18.0.tar.gz StartedAt: 2024-03-03 22:50:52 -0500 (Sun, 03 Mar 2024) EndedAt: 2024-03-03 22:56:08 -0500 (Sun, 03 Mar 2024) EllapsedTime: 315.8 seconds RetCode: 0 Status: OK CheckDir: RCM.Rcheck Warnings: 0