Package: RCM Version: 1.18.0 Command: rm -rf RCM.buildbin-libdir && mkdir RCM.buildbin-libdir && /Users/biocbuild/BBS/utils/build-universal.sh RCM_1.18.0.tar.gz /Library/Frameworks/R.framework/Resources/bin/R RCM.buildbin-libdir StartedAt: 2024-03-04 00:58:36 -0500 (Mon, 04 Mar 2024) EndedAt: 2024-03-04 00:59:13 -0500 (Mon, 04 Mar 2024) EllapsedTime: 37.4 seconds RetCode: 0 Status: OK PackageFile: RCM_1.18.0.tgz PackageFileSize: 4.136 MiB