Package: RCM Version: 1.18.0 Command: /home/biocbuild/R/R-4.3.1/bin/R CMD build --keep-empty-dirs --no-resave-data RCM StartedAt: 2023-11-02 05:00:56 -0000 (Thu, 02 Nov 2023) EndedAt: 2023-11-02 05:02:07 -0000 (Thu, 02 Nov 2023) EllapsedTime: 71.1 seconds RetCode: 0 Status: OK PackageFile: RCM_1.18.0.tar.gz PackageFileSize: 3.9 MiB