Package: RCASPAR Version: 1.48.0 Command: /home/biocbuild/bbs-3.18-bioc/R/bin/R CMD check --install=check:RCASPAR.install-out.txt --library=/home/biocbuild/bbs-3.18-bioc/R/site-library --timings RCASPAR_1.48.0.tar.gz StartedAt: 2024-04-16 02:46:34 -0400 (Tue, 16 Apr 2024) EndedAt: 2024-04-16 02:46:54 -0400 (Tue, 16 Apr 2024) EllapsedTime: 20.0 seconds RetCode: 0 Status: OK CheckDir: RCASPAR.Rcheck Warnings: 0