Package: RCASPAR Version: 1.48.0 Command: rm -rf RCASPAR.buildbin-libdir && mkdir RCASPAR.buildbin-libdir && /Users/biocbuild/BBS/utils/build-universal.sh RCASPAR_1.48.0.tar.gz /Library/Frameworks/R.framework/Resources/bin/R RCASPAR.buildbin-libdir StartedAt: 2024-04-16 12:30:28 -0400 (Tue, 16 Apr 2024) EndedAt: 2024-04-16 12:30:36 -0400 (Tue, 16 Apr 2024) EllapsedTime: 7.6 seconds RetCode: 0 Status: OK PackageFile: RCASPAR_1.48.0.tgz PackageFileSize: 372.8 KiB