Package: RCASPAR Version: 1.48.0 Command: rm -rf RCASPAR.buildbin-libdir && mkdir RCASPAR.buildbin-libdir && /Users/biocbuild/BBS/utils/build-universal.sh RCASPAR_1.48.0.tar.gz /Library/Frameworks/R.framework/Resources/bin/R RCASPAR.buildbin-libdir StartedAt: 2024-03-04 00:58:32 -0500 (Mon, 04 Mar 2024) EndedAt: 2024-03-04 00:58:39 -0500 (Mon, 04 Mar 2024) EllapsedTime: 6.8 seconds RetCode: 0 Status: OK PackageFile: RCASPAR_1.48.0.tgz PackageFileSize: 372.7 KiB