Package: RCAS Version: 1.28.3 Command: F:\biocbuild\bbs-3.18-bioc\R\bin\R.exe CMD INSTALL RCAS StartedAt: 2024-04-15 16:14:21 -0400 (Mon, 15 Apr 2024) EndedAt: 2024-04-15 16:15:26 -0400 (Mon, 15 Apr 2024) EllapsedTime: 64.7 seconds RetCode: 0 Status: OK